BEGIN:VCALENDAR
VERSION:2.0
PRODID:-//Toulouse Hash House Harriers - ECPv6.10.1.1//NONSGML v1.0//EN
CALSCALE:GREGORIAN
METHOD:PUBLISH
X-ORIGINAL-URL:https://toulousehash.com/new
X-WR-CALDESC:Events for Toulouse Hash House Harriers
REFRESH-INTERVAL;VALUE=DURATION:PT1H
X-Robots-Tag:noindex
X-PUBLISHED-TTL:PT1H
BEGIN:VTIMEZONE
TZID:UTC
BEGIN:STANDARD
TZOFFSETFROM:+0000
TZOFFSETTO:+0000
TZNAME:UTC
DTSTART:20260101T000000
END:STANDARD
END:VTIMEZONE
BEGIN:VEVENT
DTSTART;TZID=UTC:20260124T150000
DTEND;TZID=UTC:20260124T200000
DTSTAMP:20260423T114747
CREATED:20260106T150306Z
LAST-MODIFIED:20260106T150306Z
UID:1205-1769266800-1769284800@toulousehash.com
SUMMARY:#289 – Burns Hash – Fontenilles
DESCRIPTION:As is customary for this time of year\, Short Shift and Hairy Shoes would like to invite you all to the annual Burns Hash run\, taking place in the lovely countryside around Fontenilles\, followed by the traditional hash supper celebrations at their home. \nPlease note that the date for the hash is Saturday\, 24 January. That’s right: SATURDAY\, not Sunday. \nThe hash will begin at 3pm (please aim to arrive 15 minutes early) and will be followed by the traditional Burns supper\, with SS and HS providing haggis\, the famous Scottish delicacy (not for the faint-hearted)\, as the main course. Any additional contributions of starters or desserts would be gratefully received. \nFurthermore\, to ensure an appropriately Scottish atmosphere\, tartan attire is strongly encouraged. Punishment for nonconformity will be dealt at the discretion of the GM holding the circle. \nIf you would like to attend\, please contact us by mail at contact@toulousehash.com for the precise starting location. \nWhat to Bring:\n– 5€ hash cash\n– A drinking beaker\n– Water\n– A dish to share\, if desired \nHope to see you there! \nFriendly reminder: Hashes are non-competitive social events
URL:https://toulousehash.com/new/event/289-burns-hash-fontenilles/
LOCATION:Fontenilles
ATTACH;FMTTYPE=image/jpeg:https://toulousehash.com/new/wp-content/uploads/2026/01/bagpipes-3029347_1920.jpg
END:VEVENT
BEGIN:VEVENT
DTSTART;TZID=UTC:20260315T150000
DTEND;TZID=UTC:20260315T173000
DTSTAMP:20260423T114747
CREATED:20260228T152840Z
LAST-MODIFIED:20260228T152840Z
UID:1219-1773586800-1773595800@toulousehash.com
SUMMARY:Hash #291 - 15th March - Aussonne
DESCRIPTION:Save the date for the trail to be set by our returning RA\, Cheesy Lollipop. Details to follow but trail likely to be in or around Aussonne
URL:https://toulousehash.com/new/event/hash-291-15th-march-aussonne/
ATTACH;FMTTYPE=image/jpeg:https://toulousehash.com/new/wp-content/uploads/2025/06/1104px-Aussonne_-_Le_Chateau.jpg
END:VEVENT
BEGIN:VEVENT
DTSTART;TZID=UTC:20260419T140000
DTEND;TZID=UTC:20260419T170000
DTSTAMP:20260423T114747
CREATED:20260320T131526Z
LAST-MODIFIED:20260320T131526Z
UID:1226-1776607200-1776618000@toulousehash.com
SUMMARY:#292 - Carcassonne
DESCRIPTION:Join us for this extra special event in conjunction with the famous DIVA hash hosted by Hidden Asset from the medieval city of Carcassonne. Cheesy Lollipop will hare a trail for this event and we welcome the TH3 and anyone else who wishes to join. Exact location in Carcassonne is still to be confirmed but it is understood to be in or near the city and very accessible from the principal SNCF station
URL:https://toulousehash.com/new/event/292-carcassonne/
ATTACH;FMTTYPE=image/jpeg:https://toulousehash.com/new/wp-content/uploads/2026/03/1280px-1_carcassonne_aerial_2016.jpg
END:VEVENT
END:VCALENDAR