BEGIN:VCALENDAR
VERSION:2.0
PRODID:-//Toulouse Hash House Harriers - ECPv6.10.1.1//NONSGML v1.0//EN
CALSCALE:GREGORIAN
METHOD:PUBLISH
X-WR-CALNAME:Toulouse Hash House Harriers
X-ORIGINAL-URL:https://toulousehash.com/new
X-WR-CALDESC:Events for Toulouse Hash House Harriers
REFRESH-INTERVAL;VALUE=DURATION:PT1H
X-Robots-Tag:noindex
X-PUBLISHED-TTL:PT1H
BEGIN:VTIMEZONE
TZID:UTC
BEGIN:STANDARD
TZOFFSETFROM:+0000
TZOFFSETTO:+0000
TZNAME:UTC
DTSTART:20240101T000000
END:STANDARD
END:VTIMEZONE
BEGIN:VEVENT
DTSTART;TZID=UTC:20240825T150000
DTEND;TZID=UTC:20240825T230000
DTSTAMP:20260421T032952
CREATED:20250203T105842Z
LAST-MODIFIED:20250203T110848Z
UID:823-1724598000-1724626800@toulousehash.com
SUMMARY:#274 - Cambounet-sur-le-Sor - at Sweet Pea & IP
DESCRIPTION:The official announcement for the upcoming hash\, hared and hosted by Sweet Pea and IP on Sunday 25 August at their home in the Tarn!\n\nAn invitation to all Hashers \n We’re Peased (!!) to confirm that the arrangements are as previously discussed at the last hash\, ie Sunday 25th August\, 3pm start\, meet up at our house. We’ll provide pizzas and a green salad\, and be Peased to accept any other offerings. \nThe pool will be open\, so if you fancy a Hash Splash\, bring your cozzie. \nBy Royal Command of Cheesy Lollipop\, the draft of the new Toulouse Hash Hymn Book will be revealed to the pack choir – lubricated voices essential. \nAs always\, don’t forget your 5€ hash cash\, water and drinking beaker!
URL:https://toulousehash.com/new/event/274-cambounet-sur-le-sor/
LOCATION:Cambounet-Sur-Le-Sor\, Route de Soual\, 81580
ATTACH;FMTTYPE=image/jpeg:https://toulousehash.com/new/wp-content/uploads/2025/02/cambounet-sur-le-sor.jpg
END:VEVENT
BEGIN:VEVENT
DTSTART;TZID=UTC:20240706T150000
DTEND;TZID=UTC:20240706T220000
DTSTAMP:20260421T032952
CREATED:20250203T105152Z
LAST-MODIFIED:20250203T105204Z
UID:819-1720278000-1720303200@toulousehash.com
SUMMARY:#273 –  Cornebarrieu - at Lapdancer
DESCRIPTION:Join us on SATURDAY 6 July for a high-summer hash in beautiful Cornebarrieu. After a stimulating trail laid by Lapdancer\, starting from his home\, hashers are invited for a BBQ with the hash supplying beer\, wine and meat – all that’s left to bring is a lively mood and a dish to share. The pool will be open. \nThe after-hash bash will double as the Annual General Meeting. Volunteers are still sought for all mismanagement positions\, from Hash Cash to Beer Bitch and beyond. Co-sharing of positions is encouraged\, given that none of us are able to make it to every hash event. And anyway\, sharing is caring! \nWHEN: SATURDAY 6 July at 3pm. Please arrive 15 minutes early. \nWHERE:  31700 Cornebarrieu \nWHAT TO BRING: 5€ hash cash\, drinking beaker\, a dish to share and a swimsuit (optional). \nWe hope you can make it!
URL:https://toulousehash.com/new/event/273-cornebarrieu/
LOCATION:Cornebarrieu\, Rte de Seilh\, 31700
ATTACH;FMTTYPE=image/jpeg:https://toulousehash.com/new/wp-content/uploads/2025/02/cornebarrieu.jpg
END:VEVENT
BEGIN:VEVENT
DTSTART;TZID=UTC:20240616T150000
DTEND;TZID=UTC:20240616T220000
DTSTAMP:20260421T032952
CREATED:20250203T104513Z
LAST-MODIFIED:20250204T101241Z
UID:814-1718550000-1718575200@toulousehash.com
SUMMARY:#272 - Fourquevaux - by VC
DESCRIPTION:Please join us for a hash this coming Sunday\, hared by VC in the idyllic countryside of Fourquevaux. The weather looks to be fine and the scenery will be lush\, so it will all be well worth your efforts!\n\nWhen: 3pm on Sunday\, 16 June.\n\nWhere: 3 Chem. de la Rivière\, 31450 Fourquevaux\nhttps://maps.app.goo.gl/L6DGTwbZpTxbCKVN8\n\nWhat to Bring: The usual 5€ hash cash\, drinking beaker and plenty of water.
URL:https://toulousehash.com/new/event/272-fourquevaux/
LOCATION:Fourquevaux\,  3 Chem. de la Rivière\, 31450
ATTACH;FMTTYPE=image/jpeg:https://toulousehash.com/new/wp-content/uploads/2025/02/fourquevaux.jpg
END:VEVENT
BEGIN:VEVENT
DTSTART;TZID=UTC:20240505T150000
DTEND;TZID=UTC:20240505T220000
DTSTAMP:20260421T032952
CREATED:20250203T103332Z
LAST-MODIFIED:20250204T110451Z
UID:805-1714921200-1714946400@toulousehash.com
SUMMARY:#271 - Cinco de Mayo - by Hairy Clam
DESCRIPTION:Please join us on 5 May for a trail hared by Hairy Clam\, who has wisely chosen a Sunday so as to avoid missing his own hash. \nHaving selected the forests and fields south of Muret for his trail\, HC promises that the scenery “will not leave hashers indifferent” and has provided the attached photo as an appetiser for the visual feast to come. Now it’s up to the RA to ensure favourable weather conditions in which to enjoy it. \n\nWhen: Cinco de Mayo  (Sunday 5 May) at 15:00. Please arrive 15 minutes early.Where: Meet at the Eglise de Saint-Amans\, which is close to Estantens\, which is close to Muret\, which is close to Toulouse \n\nWhat to wear: As this hash coincides with Cinco de Mayo\, it’s only right that we honour the occasion with vaguely offensive cultural caricatures. Mexican-themed attire is strongly encouraged.\n\nWhat to bring: A drinking beaker\, water and €5 hash cash.
URL:https://toulousehash.com/new/event/271-cinco-de-mayo-estantens/
LOCATION:Hash 271\, Eglise de Saint-Amans\, Estantens
ATTACH;FMTTYPE=image/jpeg:https://toulousehash.com/new/wp-content/uploads/2025/02/estantens.jpg
END:VEVENT
BEGIN:VEVENT
DTSTART;TZID=UTC:20240413T150000
DTEND;TZID=UTC:20240413T220000
DTSTAMP:20260421T032952
CREATED:20250203T101634Z
LAST-MODIFIED:20250204T110424Z
UID:799-1713020400-1713045600@toulousehash.com
SUMMARY:# 270 - The Mystery Hash of Grisolles - by It's Complicated & Honey Pot
DESCRIPTION:Please join us this coming Saturday\, 13 April for a hash on what looks to be a beautiful and exceptionally warm spring day. Honey Pot/Trap with It’s Complicated opens “The Mystery Hash of Grisolles” at the north of Toulouse. \nWhen: 3pm on Saturday\, 13 April – please arrive 15 minutes early.\nWhere: Salle des Fêtes de Grisolles\nHow To Go Green: You can take the train from Toulouse Matabiau to the Gare de Grisolles\, which is within walking distance of the hash starting point. \nWhat To Bring: 5€ hash cash\, a drinking beaker\, water and – for those of us pasty troglodytes emerging from our winter hibernation – ample sunscreen. \nHope to see you there!
URL:https://toulousehash.com/new/event/270-the-mystery-hash-of-grisolles/
LOCATION:Hash 270\, Salle des Fêtes de Grisolles
ATTACH;FMTTYPE=image/jpeg:https://toulousehash.com/new/wp-content/uploads/2025/02/grisolle.jpg
END:VEVENT
END:VCALENDAR