BEGIN:VCALENDAR
VERSION:2.0
PRODID:-//Toulouse Hash House Harriers - ECPv6.10.1.1//NONSGML v1.0//EN
CALSCALE:GREGORIAN
METHOD:PUBLISH
X-WR-CALNAME:Toulouse Hash House Harriers
X-ORIGINAL-URL:https://toulousehash.com/new
X-WR-CALDESC:Events for Toulouse Hash House Harriers
REFRESH-INTERVAL;VALUE=DURATION:PT1H
X-Robots-Tag:noindex
X-PUBLISHED-TTL:PT1H
BEGIN:VTIMEZONE
TZID:UTC
BEGIN:STANDARD
TZOFFSETFROM:+0000
TZOFFSETTO:+0000
TZNAME:UTC
DTSTART:20260101T000000
END:STANDARD
END:VTIMEZONE
BEGIN:VEVENT
DTSTART;TZID=UTC:20260315T150000
DTEND;TZID=UTC:20260315T173000
DTSTAMP:20260421T032015
CREATED:20260228T152840Z
LAST-MODIFIED:20260228T152840Z
UID:1219-1773586800-1773595800@toulousehash.com
SUMMARY:Hash #291 - 15th March - Aussonne
DESCRIPTION:Save the date for the trail to be set by our returning RA\, Cheesy Lollipop. Details to follow but trail likely to be in or around Aussonne
URL:https://toulousehash.com/new/event/hash-291-15th-march-aussonne/
ATTACH;FMTTYPE=image/jpeg:https://toulousehash.com/new/wp-content/uploads/2025/06/1104px-Aussonne_-_Le_Chateau.jpg
END:VEVENT
END:VCALENDAR