BEGIN:VCALENDAR
VERSION:2.0
PRODID:-//Toulouse Hash House Harriers - ECPv6.10.1.1//NONSGML v1.0//EN
CALSCALE:GREGORIAN
METHOD:PUBLISH
X-WR-CALNAME:Toulouse Hash House Harriers
X-ORIGINAL-URL:https://toulousehash.com/new
X-WR-CALDESC:Events for Toulouse Hash House Harriers
REFRESH-INTERVAL;VALUE=DURATION:PT1H
X-Robots-Tag:noindex
X-PUBLISHED-TTL:PT1H
BEGIN:VTIMEZONE
TZID:UTC
BEGIN:STANDARD
TZOFFSETFROM:+0000
TZOFFSETTO:+0000
TZNAME:UTC
DTSTART:20250101T000000
END:STANDARD
END:VTIMEZONE
BEGIN:VEVENT
DTSTART;TZID=UTC:20250607T190000
DTEND;TZID=UTC:20250608T180000
DTSTAMP:20260421T015535
CREATED:20250519T220128Z
LAST-MODIFIED:20250520T191417Z
UID:1036-1749322800-1749405600@toulousehash.com
SUMMARY:#Bonus Hash - Montpellier - by Hung Jury & Ring Burner (Herault H3)
DESCRIPTION:Bonus Hash for those that need more than one fix per month. Our friends at the Herault H3 are hosting a hash in Montpellier on June 8th at the location below\, with likely On-After (don’t forget its a bank holiday on 9th so extra reason to celebrate). A pre-lube will take place in the centre of Montpellier the evening of 7th. As usual\, bring 5€ and your drinking beaker.
URL:https://toulousehash.com/new/event/bonus-hash-montpellier-hung-jury-ring-burner/
LOCATION:Montpellier\, Montpellier\, 34000\, France
END:VEVENT
END:VCALENDAR