BEGIN:VCALENDAR
VERSION:2.0
PRODID:-//Toulouse Hash House Harriers - ECPv6.10.1.1//NONSGML v1.0//EN
CALSCALE:GREGORIAN
METHOD:PUBLISH
X-WR-CALNAME:Toulouse Hash House Harriers
X-ORIGINAL-URL:https://toulousehash.com/new
X-WR-CALDESC:Events for Toulouse Hash House Harriers
REFRESH-INTERVAL;VALUE=DURATION:PT1H
X-Robots-Tag:noindex
X-PUBLISHED-TTL:PT1H
BEGIN:VTIMEZONE
TZID:UTC
BEGIN:STANDARD
TZOFFSETFROM:+0000
TZOFFSETTO:+0000
TZNAME:UTC
DTSTART:20250101T000000
END:STANDARD
END:VTIMEZONE
BEGIN:VEVENT
DTSTART;TZID=UTC:20250907T140000
DTEND;TZID=UTC:20250907T170000
DTSTAMP:20260421T015546
CREATED:20250713T104429Z
LAST-MODIFIED:20250902T091134Z
UID:1107-1757253600-1757264400@toulousehash.com
SUMMARY:#Bonus Hash - Montpellier Beer Festival Hash Co-Hared by Herault H3
DESCRIPTION:To make up for a lack of TH3 run in August\, we have arranged\, as a bonus\, to support a special post-Montpellier Beer Festival Hangover Run on 7th September with the Herault H3. Main details will be posted on the Herault H3 website: \nHeraultics Hash House Harriers: Run #10 – Montpellier Love Beer Festival – 07/09/2025 \nStarting point; corner of rue de Verdun with rue Jules Ferry (near Montpellier St Roch Station) \nThe pre-lube the day before will be in the form of the Love Beer Festival\, website below \nHomepage – Beer Love Fest \nIf you plan to come and/or will be in Montpellier at the weekend and want to meet up for the beer festival please contact Glory Hole/Richard directly via WhatsApp
URL:https://toulousehash.com/new/event/bonus-hash-montpellier-beer-festival-hash-co-hared-by-herault-h3/
LOCATION:Montpellier\, Montpellier\, 34000\, France
ATTACH;FMTTYPE=image/jpeg:https://toulousehash.com/new/wp-content/uploads/2025/07/IMG_7584-scaled-1.jpg
END:VEVENT
END:VCALENDAR