BEGIN:VCALENDAR
VERSION:2.0
PRODID:-//Toulouse Hash House Harriers - ECPv6.10.1.1//NONSGML v1.0//EN
CALSCALE:GREGORIAN
METHOD:PUBLISH
X-WR-CALNAME:Toulouse Hash House Harriers
X-ORIGINAL-URL:https://toulousehash.com/new
X-WR-CALDESC:Events for Toulouse Hash House Harriers
REFRESH-INTERVAL;VALUE=DURATION:PT1H
X-Robots-Tag:noindex
X-PUBLISHED-TTL:PT1H
BEGIN:VTIMEZONE
TZID:UTC
BEGIN:STANDARD
TZOFFSETFROM:+0000
TZOFFSETTO:+0000
TZNAME:UTC
DTSTART:20250101T000000
END:STANDARD
END:VTIMEZONE
BEGIN:VEVENT
DTSTART;TZID=UTC:20250712T150000
DTEND;TZID=UTC:20250712T180000
DTSTAMP:20260421T004158
CREATED:20250628T130535Z
LAST-MODIFIED:20250628T130820Z
UID:1086-1752332400-1752343200@toulousehash.com
SUMMARY:#284 - Aussonne haired by Cheesy Lollipop
DESCRIPTION:Summer is here and so it’s time for the (hopefully) now traditional Summer Hash haired by Cheesy Lollipop. Like last year we will have a post-circle BBQ for those that want to stay and of course the pool will be open too so bring your budgie smugglers! \nIf you wish to stay for the BBQ\, then food contributions will be welcome and we recommend that you bring them to chez Cheesy half an hour before the start of the trail \nWe can’t post the exact address of the start place of the hash on here but for those who know where Cheesy’s house in there you’re already warm. For others please contact us on contact@toulousehash.com \nOn On! \nGH \n 
URL:https://toulousehash.com/new/event/284-aussonne-haired-by-cheesy-lollipop/
LOCATION:Residence du Lac\, Aussonne\, Aussonne\, 31840
ATTACH;FMTTYPE=image/jpeg:https://toulousehash.com/new/wp-content/uploads/2025/06/image.jpg
END:VEVENT
END:VCALENDAR