BEGIN:VCALENDAR
VERSION:2.0
PRODID:-//Toulouse Hash House Harriers - ECPv6.10.1.1//NONSGML v1.0//EN
CALSCALE:GREGORIAN
METHOD:PUBLISH
X-WR-CALNAME:Toulouse Hash House Harriers
X-ORIGINAL-URL:https://toulousehash.com/new
X-WR-CALDESC:Events for Toulouse Hash House Harriers
REFRESH-INTERVAL;VALUE=DURATION:PT1H
X-Robots-Tag:noindex
X-PUBLISHED-TTL:PT1H
BEGIN:VTIMEZONE
TZID:UTC
BEGIN:STANDARD
TZOFFSETFROM:+0000
TZOFFSETTO:+0000
TZNAME:UTC
DTSTART:20250101T000000
END:STANDARD
END:VTIMEZONE
BEGIN:VEVENT
DTSTART;TZID=UTC:20250615T150000
DTEND;TZID=UTC:20250615T190000
DTSTAMP:20260421T003025
CREATED:20250513T144057Z
LAST-MODIFIED:20250513T144628Z
UID:1010-1749999600-1750014000@toulousehash.com
SUMMARY:#283 - Beaumont-sur-Lèze - By Hairy Clam
DESCRIPTION:We’re going down with Hairy Clam to beautiful Beaumont-sur-Lèze\, south of Toulouse\, for the hash he will hare on Sunday 15 June. As part of Lauragais\, this village is situated in a region known as the “breadbasket of Languedoc” since the Middle Ages – what better location for an event defined by flour markings and grain-based libations? \nWhere:\nBeaumont-sur-Lèze\, 31870\nhttps://maps.app.goo.gl/GtaRVpyrzTn285CdA \nWhen:\nSunday\, 15 June at 3pm – please arrive 15 minutes early. \nWhat To Bring:\nWater\, a drinking beaker\, 5 euros hash cash (ankle-biters participate for free) \nIt’s always nice to have some idea of the numbers for the beer/snacks purchase\, so if you plan to come\, please try to let us know by email at contact@toulousehash.com. \nLooking forward to seeing you there! \n[Friendly reminder: Hashes are non-competitive social events.]
URL:https://toulousehash.com/new/event/283-beaumont-sur-leze-by-hairy-clam/
LOCATION:Beaumont-sur-Lèze
ATTACH;FMTTYPE=image/jpeg:https://toulousehash.com/new/wp-content/uploads/2025/05/Beaumont_sur_Leze_2-copy.jpg
END:VEVENT
END:VCALENDAR