BEGIN:VCALENDAR
VERSION:2.0
PRODID:-//Toulouse Hash House Harriers - ECPv6.10.1.1//NONSGML v1.0//EN
CALSCALE:GREGORIAN
METHOD:PUBLISH
X-WR-CALNAME:Toulouse Hash House Harriers
X-ORIGINAL-URL:https://toulousehash.com/new
X-WR-CALDESC:Events for Toulouse Hash House Harriers
REFRESH-INTERVAL;VALUE=DURATION:PT1H
X-Robots-Tag:noindex
X-PUBLISHED-TTL:PT1H
BEGIN:VTIMEZONE
TZID:UTC
BEGIN:STANDARD
TZOFFSETFROM:+0000
TZOFFSETTO:+0000
TZNAME:UTC
DTSTART:20250101T000000
END:STANDARD
END:VTIMEZONE
BEGIN:VEVENT
DTSTART;TZID=UTC:20250309T150000
DTEND;TZID=UTC:20250309T223000
DTSTAMP:20260421T004537
CREATED:20250211T094725Z
LAST-MODIFIED:20250217T140625Z
UID:898-1741532400-1741559400@toulousehash.com
SUMMARY:#280 - Nearly St Patrick’s Day themed event - by Rocket Pants & Rocket Lips
DESCRIPTION:Join the Toulouse Hash House Harriers for a thrilling trail on March 9th\, set by Rocket Pants & Rocket Lips! \n\n\n\nHashers will enjoy bucolic waterside views and plenty of beautiful country air on this flat 7km walking/10km jogging trail. Please arrive a few minutes before to allow a prompt departure\, and come suitably attired\, sporting plenty of green to express your inner Irish personality! \nWHEN: Sunday 9 March at 3pm. Please aim to arrive 15 minutes early. \nWHERE: Rue de Verdun\, 31170 Tournefeuille\nGoogle Maps: https://maps.app.goo.gl/p7RmhPo9nrS4BXBw9\nGPS coordinates: N 43.581475 deg\, E 1.350968 deg \nWHAT TO BRING: 5€ hash cash\, a drinking beaker\, water.
URL:https://toulousehash.com/new/event/280/
ATTACH;FMTTYPE=image/jpeg:https://toulousehash.com/new/wp-content/uploads/2025/02/castle.jpg
END:VEVENT
END:VCALENDAR