BEGIN:VCALENDAR
VERSION:2.0
PRODID:-//Toulouse Hash House Harriers - ECPv6.10.1.1//NONSGML v1.0//EN
CALSCALE:GREGORIAN
METHOD:PUBLISH
X-WR-CALNAME:Toulouse Hash House Harriers
X-ORIGINAL-URL:https://toulousehash.com/new
X-WR-CALDESC:Events for Toulouse Hash House Harriers
REFRESH-INTERVAL;VALUE=DURATION:PT1H
X-Robots-Tag:noindex
X-PUBLISHED-TTL:PT1H
BEGIN:VTIMEZONE
TZID:UTC
BEGIN:STANDARD
TZOFFSETFROM:+0000
TZOFFSETTO:+0000
TZNAME:UTC
DTSTART:20240101T000000
END:STANDARD
END:VTIMEZONE
BEGIN:VEVENT
DTSTART;TZID=UTC:20240706T150000
DTEND;TZID=UTC:20240706T220000
DTSTAMP:20260421T002734
CREATED:20250203T105152Z
LAST-MODIFIED:20250203T105204Z
UID:819-1720278000-1720303200@toulousehash.com
SUMMARY:#273 –  Cornebarrieu - at Lapdancer
DESCRIPTION:Join us on SATURDAY 6 July for a high-summer hash in beautiful Cornebarrieu. After a stimulating trail laid by Lapdancer\, starting from his home\, hashers are invited for a BBQ with the hash supplying beer\, wine and meat – all that’s left to bring is a lively mood and a dish to share. The pool will be open. \nThe after-hash bash will double as the Annual General Meeting. Volunteers are still sought for all mismanagement positions\, from Hash Cash to Beer Bitch and beyond. Co-sharing of positions is encouraged\, given that none of us are able to make it to every hash event. And anyway\, sharing is caring! \nWHEN: SATURDAY 6 July at 3pm. Please arrive 15 minutes early. \nWHERE:  31700 Cornebarrieu \nWHAT TO BRING: 5€ hash cash\, drinking beaker\, a dish to share and a swimsuit (optional). \nWe hope you can make it!
URL:https://toulousehash.com/new/event/273-cornebarrieu/
LOCATION:Cornebarrieu\, Rte de Seilh\, 31700
ATTACH;FMTTYPE=image/jpeg:https://toulousehash.com/new/wp-content/uploads/2025/02/cornebarrieu.jpg
END:VEVENT
END:VCALENDAR